BEGIN:VCALENDAR
VERSION:2.0
PRODID:-//85.13.161.240//NONSGML kigkonsult.se iCalcreator 2.20//
CALSCALE:GREGORIAN
METHOD:PUBLISH
X-WR-TIMEZONE:Europe/Berlin
BEGIN:VEVENT
UID:event30@tv-w.de
DTSTAMP:20260421T084816Z
CATEGORIES:TVW
DESCRIPTION:Frauenstammtisch\nKategorie: TVW\nICS-Link: https://www.tv-woes
 singen.de/index.php?option=com_jem&view=event&id=30:frauenstammtisch\n
DTSTART;VALUE=DATE:20260728
DTEND;VALUE=DATE:20260729
SUMMARY:Frauenstammtisch
URL:https://www.tv-woessingen.de/index.php?option=com_jem&view=event&id=30:
 frauenstammtisch
END:VEVENT
END:VCALENDAR